BEGIN:VCALENDAR
PRODID:NingEventWidget-v1
VERSION:2.0
METHOD:PUBLISH
BEGIN:VTIMEZONE
TZID:Pacific/Midway
X-LIC-LOCATION:Pacific/Midway
BEGIN:STANDARD
TZOFFSETFROM:-1100
TZOFFSETTO:-1100
TZNAME:SST
DTSTART:19700101T000000
END:STANDARD
END:VTIMEZONE
BEGIN:VEVENT
UID:1354814:Event:142493
DTSTAMP:20260422T011720Z
SUMMARY:Margate Mod and 60s Festival 2019
DESCRIPTION:Great British Music & CultureÂ return to the rejuvenated s
 easide town ofÂ MargateÂ on the Kent coast. The fantasticÂ WestcoastÂ 
 venue houses three areas including a top Live Music & DJ Venue, Restau
 rant & theÂ Black Cat ClubÂ room. Situated opposite the new Turner Art
 s centre in the heart of the old town surrounded by vintage shops, bou
 tique hotels, family run cafes, restaurants, tea rooms and even an old
  sweet shop. Other attractions include the UKâ€™s first ever fun fair,
 Â DreamlandÂ which has recently reopened for the first time in over a 
 decade. Margate also offers one of the best beaches in Britain and one
  of the few places you can watch the sun rise and set.\nIf that wasnâ€
 ™t enough to persuade you to plan a visit to the seaside we have put t
 ogether a program that will be sure to thrill you over the Whitsun ban
 k holiday weekend.\nOver three evening and two daytime events we have 
 put together a stellar program which has two DJ rooms and a fantastic 
 live music set-up. Our daytime events are on the Piazza opposite the W
 estcoast and seafront with ample parking space for scooters. We will h
 ave a stage with live music and open decks DJ sessions, scooter comp, 
 market, food and drinks at special prices for wristband holders. Check
  back once in a while as we add more to the program.\n\nFor more infor
 mation visit https://newuntouchables.ning.com/events/margate-mod-amp-6
 0s-festival-2019
DTSTART;TZID=Pacific/Midway:20190524T210000
DTEND;TZID=Pacific/Midway:20190527T060000
CATEGORIES:mod, weeekender, scooter, market, allnighter
LOCATION:The West Coast
WEBSITE:http://www.gbmusicculture.co.uk/
URL:http://www.gbmusicculture.co.uk/
CONTACT:
ORGANIZER;CN="New Untouchables":https://newuntouchables.ning.com/profi
 le/NewUntouchables
ATTACH;FMTTYPE="image/jpeg":http://storage.ning.com/topology/rest/1.0/
 file/get/2554682087?profile=original
ATTENDEE;ROLE=REQ-PARTICIPANT;PARTSTAT=ACCEPTED;RSVP=TRUE;CN="martin s
 pelman":https://newuntouchables.ning.com/profile/martinspelman
ATTENDEE;ROLE=REQ-PARTICIPANT;PARTSTAT=ACCEPTED;RSVP=TRUE;CN="New Unto
 uchables":https://newuntouchables.ning.com/profile/NewUntouchables
ATTENDEE;ROLE=REQ-PARTICIPANT;PARTSTAT=TENTATIVE;RSVP=TRUE;CN="Cath Jo
 nes":https://newuntouchables.ning.com/profile/CathJones
END:VEVENT
END:VCALENDAR
