BEGIN:VCALENDAR
PRODID:NingEventWidget-v1
VERSION:2.0
METHOD:PUBLISH
BEGIN:VTIMEZONE
TZID:Pacific/Midway
X-LIC-LOCATION:Pacific/Midway
BEGIN:STANDARD
TZOFFSETFROM:-1100
TZOFFSETTO:-1100
TZNAME:SST
DTSTART:19700101T000000
END:STANDARD
END:VTIMEZONE
BEGIN:VEVENT
UID:1354814:Event:125867
DTSTAMP:20260422T045652Z
SUMMARY:EURO YEYE FESTIVAL
DESCRIPTION:Trouble & Tea and the New Untouchables present the ulti
 mate Mod/’60s weekender in the World.\nWant to start planning your s
 ummer holiday? This is the perfect destination to enjoy the delights o
 f northern Spain and sample the most fun weekend of the year.\n2014 ma
 rked the 20th edition, previous live acts include Brenda Holloway,  J
 ames Hunter, Martha Reeves, King Khan & The Shrines, Maxine Brown, The
  Strypes, Masters of Groove inc Pretty Purdie, Rueben Wilson and Grant
  Green Jnr, Crazy World Of Arthur Brown, Night Beats, P.P Arnold, The 
 Action, The Pretty Things, Lonnie Smith, Dean Parrish, July, James Tay
 lor Quartet, The Flirtations, Al Supersonic & The Teenagers, Doctor Ex
 plosion, Los Peyotes, Knave, Wau Y Los Arrrgs, DC Fontana, Big Boss Ma
 n, Betty Harris and The Excitements to name just a few.\nAfter the liv
 e music finished Europe’s finest DJs take over and play 100% vintage
  vinyl over two dance floors in a superb venue built in 1968. However 
 there is so much more to Euro Ye Ye, the programme includes three al
 l-nighters, three scooter runs, art exhibitions, market and cult films
 .\nAll set to the backdrop of this beautiful area of Spain called Astu
 rias, with its excellent beaches, mountains, great cuisine and Cidra.
 \nCheck the promo video from last year’s event \nGo: www.euroyey
 e.es for the 2017 full program in March.\n\nFor more information visi
 t https://newuntouchables.ning.com/events/euro-yeye-festival-4
DTSTART;TZID=Pacific/Midway:20170804T160000
DTEND;TZID=Pacific/Midway:20170807T060000
CATEGORIES:live, bands, international, "dj’s", allnighters, scooter,
  runs, expos, market
LOCATION:Gijon
WEBSITE:http://www.euroyeye.es
URL:http://www.euroyeye.es
CONTACT:
ORGANIZER;CN="New Untouchables":https://newuntouchables.ning.com/profi
 le/NewUntouchables
ATTACH;FMTTYPE="image/jpeg":http://storage.ning.com/topology/rest/1.0/
 file/get/2470462873?profile=original
ATTENDEE;ROLE=REQ-PARTICIPANT;PARTSTAT=ACCEPTED;RSVP=TRUE;CN="New Unto
 uchables":https://newuntouchables.ning.com/profile/NewUntouchables
END:VEVENT
END:VCALENDAR
